BEGIN:VCALENDAR
VERSION:2.0
PRODID:-//Galerie Cortade&#039;Art - ECPv6.15.13.1//NONSGML v1.0//EN
CALSCALE:GREGORIAN
METHOD:PUBLISH
X-ORIGINAL-URL:https://cortade-art.com
X-WR-CALDESC:Évènements pour Galerie Cortade&#039;Art
REFRESH-INTERVAL;VALUE=DURATION:PT1H
X-Robots-Tag:noindex
X-PUBLISHED-TTL:PT1H
BEGIN:VTIMEZONE
TZID:UTC
BEGIN:STANDARD
TZOFFSETFROM:+0000
TZOFFSETTO:+0000
TZNAME:UTC
DTSTART:20190101T000000
END:STANDARD
END:VTIMEZONE
BEGIN:VEVENT
DTSTART;VALUE=DATE:20251213
DTEND;VALUE=DATE:20251214
DTSTAMP:20260419T190722
CREATED:20231126T150158Z
LAST-MODIFIED:20251128T173315Z
UID:23041-1765584000-1765670399@cortade-art.com
SUMMARY:Exposition de Noël !
DESCRIPTION:Exposition de Noël ! \nJoignez-vous à nous pour l’exposition de tous nos artistiques lors du vernissage de notre exposition  \nle Samedi 13 décembre 2025Goûter de Noël à partir de 15h. \nOuvert le 14 décembre  \n\n\nExposition visible jusqu’au 10 janvier 2026. \n\nToute l’équipe Cortade’Art vous souhaite de bonnes et heureuses fêtes de fin d’année. \nNos horaires \nLundi 14 H / 19 H\nDu mardi au samedi 10 h /12 h et 14 h / 19 h.\n \nL’équipe Cortade’Art
URL:https://cortade-art.com/agenda/eclats-dart-pour-noel/
LOCATION:MONTAUBAN\, 32 RUE BESSIERES\, 82000\, France
CATEGORIES:Art,Exhibition
ORGANIZER;CN="Cortade Art Montauban":MAILTO:cortade-art@orange.fr
END:VEVENT
BEGIN:VEVENT
DTSTART;VALUE=DATE:20240607
DTEND;VALUE=DATE:20240630
DTSTAMP:20260419T190722
CREATED:20240605T214545Z
LAST-MODIFIED:20240605T214936Z
UID:23249-1717718400-1719705599@cortade-art.com
SUMMARY:4 Décennies d'Art : Exposition rétrospective
DESCRIPTION:Exposition rétrospéctive \n\nPlongez dans quarante années d’évolution artistique avec notre exposition « 4 Décennies d’Art ». Rejoignez-nous pour explorer cette riche période de créativité Vernissage sur invitation vendredi 7 juin à partir de 10HCocktail à partir de 18H \n\nExposition du 7 juin au 29 juin 2024. \n\nNos horaires \nDu mardi au samedi 10 h /12 h et 14 h / 19 h.\n \nL’équipe Cortade’Art
URL:https://cortade-art.com/agenda/4-decennies-dart-exposition-retrospective/
LOCATION:MONTAUBAN\, 32 RUE BESSIERES\, 82000\, France
CATEGORIES:Art,Exhibition
ATTACH;FMTTYPE=image/jpeg:https://cortade-art.com/wp-content/uploads/2023/12/Lindstrom-Avant-la-fete-scaled.jpg
ORGANIZER;CN="Cortade Art Montauban":MAILTO:cortade-art@orange.fr
END:VEVENT
BEGIN:VEVENT
DTSTART;VALUE=DATE:20231116
DTEND;VALUE=DATE:20231201
DTSTAMP:20260419T190722
CREATED:20231024T132226Z
LAST-MODIFIED:20231024T132635Z
UID:23004-1700092800-1701388799@cortade-art.com
SUMMARY:Marcos Rodrigo
DESCRIPTION:Du jeudi 16 au jeudi 30 novembre 2023 \nEn présence de l’artiste\n \nNos horaires \nLundi 14 H / 19 H\nDu mardi au samedi 10 h /12 h et 14 h / 19 h.\n \nL’équipe Cortade’Art
URL:https://cortade-art.com/agenda/marcos-rodrigo/
LOCATION:MONTAUBAN\, 32 RUE BESSIERES\, 82000\, France
CATEGORIES:Art
ATTACH;FMTTYPE=image/jpeg:https://cortade-art.com/wp-content/uploads/2023/10/Clytia-Huile-sur-toile-114-x-162-cm-a-scaled.jpg
ORGANIZER;CN="Cortade Art Montauban":MAILTO:cortade-art@orange.fr
END:VEVENT
BEGIN:VEVENT
DTSTART;VALUE=DATE:20230603
DTEND;VALUE=DATE:20230618
DTSTAMP:20260419T190722
CREATED:20230213T175549Z
LAST-MODIFIED:20230213T180555Z
UID:22616-1685750400-1687046399@cortade-art.com
SUMMARY:Expo mixte :  rencontre avec nos artistes
DESCRIPTION:Du samedi 3 juin au samedi 17 juin 2023 \nPour cette exposition certains de nos artistes seront présents.  \nNos horaires \nLundi 14 H / 19 H\nDu mardi au vendredi 10 h /12 h et 14 h / 19 h.\nSamedi 10 h / 19 h .\n \nL’équipe Cortade’Art
URL:https://cortade-art.com/agenda/expo-mixte/
LOCATION:MONTAUBAN\, 32 RUE BESSIERES\, 82000\, France
CATEGORIES:Art
ATTACH;FMTTYPE=image/jpeg:https://cortade-art.com/wp-content/uploads/2019/12/kijno.jpg
ORGANIZER;CN="Cortade Art Montauban":MAILTO:cortade-art@orange.fr
END:VEVENT
BEGIN:VEVENT
DTSTART;VALUE=DATE:20230304
DTEND;VALUE=DATE:20230319
DTSTAMP:20260419T190722
CREATED:20230126T161751Z
LAST-MODIFIED:20230126T164205Z
UID:22538-1677888000-1679183999@cortade-art.com
SUMMARY:De l'art brut à l'art singulier
DESCRIPTION:De l’art brut à l’art singulier  \nCortade’Art vous invite à découvrir les artistes : Mario Chichorro\, Jean Claude Tardivo\, Fabio Morais et Michadu  \n\ndu samedi 4 mars au samedi 18 mars 2023  \nNos horaires \nLundi 14 H / 19 H\nDu mardi au vendredi 10 h /12 h et 14 h / 19 h.\nSamedi 10 h / 19 h .\n \nL’équipe Cortade’Art
URL:https://cortade-art.com/agenda/de-lart-brut-a-lart-singulier/
LOCATION:MONTAUBAN\, 32 RUE BESSIERES\, 82000\, France
CATEGORIES:Art
ATTACH;FMTTYPE=image/jpeg:https://cortade-art.com/wp-content/uploads/2023/01/event-fabio-morais-.jpg
ORGANIZER;CN="Cortade Art Montauban":MAILTO:cortade-art@orange.fr
END:VEVENT
BEGIN:VEVENT
DTSTART;VALUE=DATE:20221117
DTEND;VALUE=DATE:20221121
DTSTAMP:20260419T190722
CREATED:20220804T171538Z
LAST-MODIFIED:20220810T153836Z
UID:22209-1668643200-1668988799@cortade-art.com
SUMMARY:Art Montpellier 2022
DESCRIPTION:Foire méditerranéenne des arts contemporains – Du jeudi 17 au dimanche 20 novembre 2022. Hall B2 – Stand B 07 – Parc des Expositions de Montpellier \nJeudi 17 novembre : de 11h à 22h30 (Soirée des arts de 19h30 à 22h30) Vendredi 18 novembre : de 11h à 20hSamedi 19 novembre : de 10h à 20h Dimanche 20 novembre : de 10h à 18h \nMercredi 16 novembre 2022 > Vernissage (uniquement accessible sur invitation à partir de 16h30)Jeudi 17 novembre > Soirée des arts de 19h30 à 22h30
URL:https://cortade-art.com/agenda/art-montpellier-2022/
LOCATION:Hall B2 – Parc des Expositions de Montpellier\, Route de la Foire\, Pérols\, 34470\, France
CATEGORIES:Art
ATTACH;FMTTYPE=image/png:https://cortade-art.com/wp-content/uploads/2022/08/Capture-decran-2022-08-04-a-19.03.26.png
END:VEVENT
BEGIN:VEVENT
DTSTART;VALUE=DATE:20220610
DTEND;VALUE=DATE:20220701
DTSTAMP:20260419T190722
CREATED:20220527T164918Z
LAST-MODIFIED:20220609T125959Z
UID:21973-1654819200-1656633599@cortade-art.com
SUMMARY:Exposition Nep
DESCRIPTION:Exposition NEP \nCortade’Art vous invite à découvrir les nouvelles œuvres de : NEP \n\nVendredi 10 juin cocktail* de bienvenue à partir de 18H en présence de l’artiste \nNos horaires \nLundi 14 H / 19 H\nDu mardi au vendredi 10 h /12 h et 14 h / 19 h.\nSamedi 10 h / 19 h .\n \nL’équipe Cortade’Art
URL:https://cortade-art.com/agenda/exposition-nep/
LOCATION:MONTAUBAN\, 32 RUE BESSIERES\, 82000\, France
CATEGORIES:Art
ATTACH;FMTTYPE=image/jpeg:https://cortade-art.com/wp-content/uploads/2022/05/exposition-nep-scaled-e1653670857285.jpg
ORGANIZER;CN="Cortade Art Montauban":MAILTO:cortade-art@orange.fr
END:VEVENT
BEGIN:VEVENT
DTSTART;VALUE=DATE:20220310
DTEND;VALUE=DATE:20220314
DTSTAMP:20260419T190722
CREATED:20171104T230005Z
LAST-MODIFIED:20220224T123051Z
UID:13214-1646870400-1647215999@cortade-art.com
SUMMARY:Art-up ! Lille  2022
DESCRIPTION:Lille Grand Palais Foire d’Art Contemporain 14° Edition du 10 au 13 mars 2022.  \nJeudi 10 mars 2022 : de 11h à 23hVendredi 11 mars 2022 : de 11h à 19hSamedi 12 mars 2022 : de 10h à 20hDimanche 13 mars 2022 : de 10h à 20h \nMercredi 9 mars 2022 à partir de 16h > Preview (sur invitation)Mercredi 9 mars 2022 à partir de 18h > Vernissage (sur invitation)Jeudi 10 mars 2022 à partir de 18h > Nuit de l’Art
URL:https://cortade-art.com/agenda/art-up-lille-2020/
LOCATION:Lille\, 1 Boulevard des Cités Unies\, Lille Euralille\, 59777\, France
CATEGORIES:Art
ATTACH;FMTTYPE=image/png:https://cortade-art.com/wp-content/uploads/2022/02/Affiche-insta.png
END:VEVENT
BEGIN:VEVENT
DTSTART;VALUE=DATE:20220211
DTEND;VALUE=DATE:20220227
DTSTAMP:20260419T190722
CREATED:20211227T155154Z
LAST-MODIFIED:20211229T133328Z
UID:21771-1644537600-1645919999@cortade-art.com
SUMMARY:Exposition Chloé Kelly Miller
DESCRIPTION:Exposition Chloé Kelly Miller \nCortade’Art vous invite à découvrir les nouvelles œuvres de : Chloé Kelly Miller \n\nVendredi 11 et 12 février cocktail* de bienvenue à partir de 18H en présence de l’artiste \nNos horaires \nLundi 14 H / 19 H\nDu mardi au Vendredi 10 h /12 h et 14 h / 19 h.\nSamedi 10 h / 19 h .\n \nL’équipe Cortade’Art
URL:https://cortade-art.com/agenda/exposition-chloe-kelly-miller/
LOCATION:MONTAUBAN\, 32 RUE BESSIERES\, 82000\, France
CATEGORIES:Art
ATTACH;FMTTYPE=image/jpeg:https://cortade-art.com/wp-content/uploads/2021/12/galerie-d-art-expo-chloe-kelly-miller.jpg
ORGANIZER;CN="Cortade Art Montauban":MAILTO:cortade-art@orange.fr
END:VEVENT
BEGIN:VEVENT
DTSTART;VALUE=DATE:20220114
DTEND;VALUE=DATE:20220205
DTSTAMP:20260419T190722
CREATED:20211227T152206Z
LAST-MODIFIED:20211229T133511Z
UID:21761-1642118400-1644019199@cortade-art.com
SUMMARY:Exposition Martin Loume
DESCRIPTION:Cortade’Art vous invite à découvrir son nouvel artiste : Martin Loume \n\nVendredi 14 et 15 janvier cocktail* de bienvenue à partir de 18H en présence de l’artiste \nNos horaires \nLundi 14 H / 19 H\nDu mardi au vendredi 10 h /12 h et 14 h / 19 h.\nSamedi 10 h / 19 h .\n \nL’équipe Cortade’Art
URL:https://cortade-art.com/agenda/exposition-martin-loume/
LOCATION:MONTAUBAN\, 32 RUE BESSIERES\, 82000\, France
CATEGORIES:Art
ATTACH;FMTTYPE=image/jpeg:https://cortade-art.com/wp-content/uploads/2021/12/exposition-martin-loume.jpg
ORGANIZER;CN="Cortade Art Montauban":MAILTO:cortade-art@orange.fr
END:VEVENT
BEGIN:VEVENT
DTSTART;VALUE=DATE:20211210
DTEND;VALUE=DATE:20220106
DTSTAMP:20260419T190722
CREATED:20211201T095017Z
LAST-MODIFIED:20211201T100349Z
UID:21709-1639094400-1641427199@cortade-art.com
SUMMARY:Exposition de Noël à Montauban !
DESCRIPTION:Exposition de Noël ! \nChères clientes\, chers clients\, \nL’exposition de Noël débute le 10 décembre.L’occasion de découvrir de nouvelles œuvres et nouveaux artistes…\nNos Horaires \nLundi 14 H / 19 H\nDu mardi au Vendredi 10 h /12 h et 14 h / 19 h.\nSamedi 10 h / 19 h .\n \nOuverture exceptionnelle de la galerie de Montauban le dimanche 19 décembre 2021. \nL’équipe Cortade’Art
URL:https://cortade-art.com/agenda/exposition-de-noel/
LOCATION:MONTAUBAN\, 32 RUE BESSIERES\, 82000\, France
CATEGORIES:Art
ATTACH;FMTTYPE=image/jpeg:https://cortade-art.com/wp-content/uploads/2021/12/galerie-d-art-expo-noel-news-scaled.jpg
ORGANIZER;CN="Cortade Art Montauban":MAILTO:cortade-art@orange.fr
END:VEVENT
BEGIN:VEVENT
DTSTART;VALUE=DATE:20211111
DTEND;VALUE=DATE:20211115
DTSTAMP:20260419T190722
CREATED:20210728T141702Z
LAST-MODIFIED:20210728T164454Z
UID:19738-1636588800-1636934399@cortade-art.com
SUMMARY:Art Montpellier 2021
DESCRIPTION:Foire méditerranéenne des arts contemporains – Du jeudi 11 au dimanche 14 novembre 2021. Hall B2 – Parc des Expositions de Montpellier \nMercredi 10 novembre : à partir de 19h Jeudi 11 novembre : de 11h à 20hVendredi 12 novembre : de 11h à 22h30  Samedi 13 novembre : de 10h à 20hDimanche 14 novembre : de 10h à 18H \nMercredi 10 novembre > Vernissage (uniquement accessible sur invitation)Vendredi 12 novembre > Soirée des arts de 19h à 22h30
URL:https://cortade-art.com/agenda/art-montpellier-2021/
LOCATION:Hall B2 – Parc des Expositions de Montpellier\, Route de la Foire\, Pérols\, 34470\, France
CATEGORIES:Art
ATTACH;FMTTYPE=image/png:https://cortade-art.com/wp-content/uploads/2021/07/art-montpellier-21-logo.png
END:VEVENT
BEGIN:VEVENT
DTSTART;VALUE=DATE:20211029
DTEND;VALUE=DATE:20211121
DTSTAMP:20260419T190722
CREATED:20211021T163645Z
LAST-MODIFIED:20211021T165730Z
UID:21558-1635465600-1637452799@cortade-art.com
SUMMARY:Exposition Cérisola
DESCRIPTION:Exposition à la galerie de Montauban de l’artiste peintre Cérisola Christian \nChristian Cerisola est né à Clamart en 1959 \nIl termine ses études de bijouterie-joaillerie en 1978\, voyage quelques années au USA et au Canada où il s’installe en 1981.\nIl travaille à de nombreuses créations multidiciplinaires avec le réalisateur Bertrand Noël.\n \nAprès une première exposition à Montréal en 1985\, il rentre en france en 1986\nIl rencontre Patrice de Pracontal\, à la grande chaumière\, qui deviendra son maître pendant 8 ans au sein de l’atelier de recherche pictural (L’ARP).\nIl fréquente par ailleurs les ateliers des Beaux-Arts de la ville de Paris de 1987 à 1994.\n \nDepuis juillet 2010\, Christian Cerisola a ouvert un lieu d’art contemporain dans une ancienne bergerie à Nant\, dans le Sud-Aveyron.
URL:https://cortade-art.com/agenda/exposition-cerisola/
LOCATION:MONTAUBAN\, 32 RUE BESSIERES\, 82000\, France
CATEGORIES:Art
ATTACH;FMTTYPE=image/jpeg:https://cortade-art.com/wp-content/uploads/2021/09/n°22-slide.jpeg
ORGANIZER;CN="Cortade Art Montauban":MAILTO:cortade-art@orange.fr
END:VEVENT
BEGIN:VEVENT
DTSTART;VALUE=DATE:20211022
DTEND;VALUE=DATE:20211026
DTSTAMP:20260419T190722
CREATED:20210728T163134Z
LAST-MODIFIED:20210728T165410Z
UID:21392-1634860800-1635206399@cortade-art.com
SUMMARY:Salon Arts & Antiquaires à Colmar
DESCRIPTION:44e Salon Arts & Antiquaires à ColmarDu vendredi 22 octobre au dimanche 25 octobre 2021. Hall 1– Colmar Expo \nVendredi 22 octobre : 11h -22hSamedi 23 octobre : 10h -19hDimanche 24 octobre : 10h -19hLundi 25 octobre : 10h – 18h
URL:https://cortade-art.com/agenda/44e-salon-art-antiquaires-a-colmar/
LOCATION:Hall 1– Colmar Expo\, Avenue de la Foire aux Vins\, Colmar\, 68000\, France
CATEGORIES:Art
ATTACH;FMTTYPE=image/jpeg:https://cortade-art.com/wp-content/uploads/2021/07/salon-des-antiquaires.jpg
END:VEVENT
BEGIN:VEVENT
DTSTART;VALUE=DATE:20200404
DTEND;VALUE=DATE:20200421
DTSTAMP:20260419T190722
CREATED:20200404T160044Z
LAST-MODIFIED:20200701T094900Z
UID:19604-1585958400-1587427199@cortade-art.com
SUMMARY:Exposition virtuelle Claude Venard
DESCRIPTION:EXPOSITION TERMINEE\n 
URL:https://cortade-art.com/agenda/exposition-virtuelle-claude-venard/
CATEGORIES:Exhibition
ATTACH;FMTTYPE=image/jpeg:https://cortade-art.com/wp-content/uploads/2020/04/visuel_expo_agenda_claude-venard.jpg
ORGANIZER;CN="Cortade Art":MAILTO:bruno@cortade-art.com
END:VEVENT
BEGIN:VEVENT
DTSTART;VALUE=DATE:20200123
DTEND;VALUE=DATE:20200226
DTSTAMP:20260419T190722
CREATED:20160712T220000Z
LAST-MODIFIED:20200124T183216Z
UID:10801-1579737600-1582675199@cortade-art.com
SUMMARY:"Les Signatures" Exposition Cortade Art Toulouse
DESCRIPTION:  \n  \n 
URL:https://cortade-art.com/agenda/intern-insights-tour/
LOCATION:Toulouse\, 22 rue du Rempart St-Etienne\, Toulouse\, 31000\, France
CATEGORIES:Art
ATTACH;FMTTYPE=image/jpeg:https://cortade-art.com/wp-content/uploads/2020/01/MIOTTE-58-60-HST25F-2.jpg
ORGANIZER;CN="Cortade Art Toulouse":MAILTO:bruno@cortade-art.com
END:VEVENT
END:VCALENDAR